Workbook

Sheet Calculator
A1: Hazen-Williams head loss (SI)
A3: Inputs
A4: Flow | B4: 20 | C4: L/s
A5: Internal diameter | B5: 150 | C5: mm
A6: Pipe length | B6: 1200 | C6: m
A7: Material | B7: Ductile iron, cement-lined | C7: pick from the list
A8: C from table | B8: =VLOOKUP(B7,'C values'!$A$2:$B$12,2,0) -> 140
A9: C override (optional) | C9: leave blank to use the table
A10: C used | B10: =IF(B9="",B8,B9) -> 140
A11: Results
A12: Flow Q | B12: =B4/1000 -> 0.02 | C12: m³/s
A13: Diameter d | B13: =B5/1000 -> 0.15 | C13: m
A14: Head loss hf | B14: =10.67*B6*B12^1.852/(B10^1.852*B13^4.8704) -> 9.9767532 | C14: m of water
A15: Head loss per km | B15: =B14/B6*1000 -> 8.313961 | C15: m/km
A16: Pressure loss | B16: =B14*9.81 -> 97.871949 | C16: kPa
A17: Pressure loss | B17: =B14*1.4223 -> 14.189936 | C17: psi
A18: Velocity | B18: =B12/(PI()*B13^2/4) -> 1.1317685 | C18: m/s
A19: Check | B19: =IF(B18<0.3,"Slow: HW underestimates loss",IF(B18>3,"Fast: check surge, use Darcy","OK")) -> OK
A21: Same pipe, other C values
A22: Head loss at C = 150 | B22: =10.67*$B$6*$B$12^1.852/(150^1.852*$B$13^4.8704) -> 8.780057 | C22: =B22/$B$14-1 -> -0.11994845
A23: Head loss at C = 130 | B23: =10.67*$B$6*$B$12^1.852/(130^1.852*$B$13^4.8704) -> 11.444459 | C23: =B23/$B$14-1 -> 0.14711256
A24: Head loss at C = 110 | B24: =10.67*$B$6*$B$12^1.852/(110^1.852*$B$13^4.8704) -> 15.594056 | C24: =B24/$B$14-1 -> 0.5630392
A25: Head loss at C = 100 | B25: =10.67*$B$6*$B$12^1.852/(100^1.852*$B$13^4.8704) -> 18.604515 | C25: =B25/$B$14-1 -> 0.86478652
A27: Same pipe, other published constants
A28: 10.67, d^4.87 | B28: =10.67*B6*B12^1.852/(B10^1.852*B13^4.87) -> 9.9691852 | C28: m
A29: 10.667, d^4.871 (EPANET) | B29: =10.667*B6*B12^1.852/(B10^1.852*B13^4.871) -> 9.9853076 | C29: m
A30: 10.67, d^4.8704 (B14) | B30: =B14 -> 9.9767532 | C30: m

Sheet US units
A1: Hazen-Williams in US units (NFPA 13 form)
A3: Inputs
A4: Flow | B4: 6 | C4: gpm
A5: Internal diameter | B5: 0.785 | C5: in (3/4" type L copper)
A6: Pipe length | B6: 100 | C6: ft
A7: C | B7: 130 | C7: copper, lower end
A8: Elevation rise | B8: 15 | C8: ft (meter to highest fixture)
A9: Static pressure at start | B9: 60 | C9: psi
A10: Results
A11: Friction loss per foot | B11: =4.52*B4^1.85/(B7^1.85*B5^4.87) -> 0.049648693 | C11: psi/ft
A12: Friction loss | B12: =B11*B6 -> 4.9648693 | C12: psi
A13: Friction loss as head | B13: =B12/0.4335 -> 11.452986 | C13: ft of water
A14: Elevation loss | B14: =B8*0.4335 -> 6.5025 | C14: psi
A15: Residual pressure | B15: =B9-B12-B14 -> 48.532631 | C15: psi
A16: Velocity | B16: =B4*0.002228/(PI()*(B5/12)^2/4) -> 3.9774043 | C16: ft/s
A17: Check | B17: =IF(B16>5,"Over 5 ft/s: noise and water hammer","OK") -> OK
A19: Cross-check: the SI example in US units
A20: Flow | B20: =Calculator!B4*15.850323 -> 317.00646 | C20: gpm
A21: Internal diameter | B21: =Calculator!B5/25.4 -> 5.9055118 | C21: in
A22: Pipe length | B22: =Calculator!B6*3.28084 -> 3937.008 | C22: ft
A23: NFPA friction loss | B23: =4.52*B20^1.85/(Calculator!B10^1.85*B21^4.87)*B22 -> 14.155318 | C23: psi
A24: NFPA result in metres | B24: =B23/1.4223 -> 9.952414 | C24: m of water
A25: SI result (Calculator!B14) | B25: =Calculator!B14 -> 9.9767532 | C25: m of water
A26: Difference | B26: =B24/B25-1 -> -0.0024395899

Sheet Solve for
A1: Solve Hazen-Williams for flow or diameter (SI)
A3: Flow a pipe can carry
A4: Allowable head loss | B4: 5 | C4: m
A5: Pipe length | B5: 1200 | C5: m
A6: Internal diameter | B6: 150 | C6: mm
A7: C | B7: 140
A8: Flow | B8: =(B4*B7^1.852*(B6/1000)^4.8704/(10.67*B5))^(1/1.852)*1000 -> 13.773128 | C8: L/s
A9: Velocity | B9: =B8/1000/(PI()*(B6/1000)^2/4) -> 0.77939959 | C9: m/s
A11: Diameter you need
A12: Flow | B12: 20 | C12: L/s
A13: Allowable head loss | B13: 5 | C13: m
A14: Pipe length | B14: 1200 | C14: m
A15: C | B15: 140
A16: Minimum internal diameter | B16: =(10.67*B14*(B12/1000)^1.852/(B15^1.852*B13))^(1/4.8704)*1000 -> 172.85892 | C16: mm: round up to a real size
A17: Check: hf at that diameter | B17: =10.67*B14*(B12/1000)^1.852/(B15^1.852*(B16/1000)^4.8704) -> 5 | C17: m (should equal B13)

Sheet Pipe run
A1: Pipes in series: residual head at the end
A3: Segments (leave unused rows blank)
A4: Segment | B4: Flow (L/s) | C4: ID (mm) | D4: Length (m) | E4: C | F4: hf (m) | G4: Velocity (m/s)
A5: Trunk main | B5: 30 | C5: 200 | D5: 800 | E5: 140 | F5: =IF(B5="","",10.67*D5*(B5/1000)^1.852/(E5^1.852*(C5/1000)^4.8704)) -> 3.4715015 | G5: =IF(B5="","",B5/1000/(PI()*(C5/1000)^2/4)) -> 0.95492966
A6: Distribution main | B6: 20 | C6: 150 | D6: 600 | E6: 140 | F6: =IF(B6="","",10.67*D6*(B6/1000)^1.852/(E6^1.852*(C6/1000)^4.8704)) -> 4.9883766 | G6: =IF(B6="","",B6/1000/(PI()*(C6/1000)^2/4)) -> 1.1317685
A7: Branch | B7: 8 | C7: 100 | D7: 400 | E7: 140 | F7: =IF(B7="","",10.67*D7*(B7/1000)^1.852/(E7^1.852*(C7/1000)^4.8704)) -> 4.3905401 | G7: =IF(B7="","",B7/1000/(PI()*(C7/1000)^2/4)) -> 1.0185916
F8: =IF(B8="","",10.67*D8*(B8/1000)^1.852/(E8^1.852*(C8/1000)^4.8704)) | G8: =IF(B8="","",B8/1000/(PI()*(C8/1000)^2/4))
F9: =IF(B9="","",10.67*D9*(B9/1000)^1.852/(E9^1.852*(C9/1000)^4.8704)) | G9: =IF(B9="","",B9/1000/(PI()*(C9/1000)^2/4))
A11: Head at the start | B11: 45 | C11: m
A12: Elevation rise to the end | B12: 12 | C12: m
A13: Total friction loss | B13: =SUM(F5:F9) -> 12.850418 | C13: m
A14: Residual head at the end | B14: =B11-B12-B13 -> 20.149582 | C14: m
A15: Residual pressure | B15: =B14*9.81 -> 197.6674 | C15: kPa

Sheet C values
A1: Material | B1: C used | C1: Range | D1: Source
A2: PVC | B2: 150 | C2: 150 | D2: Wikipedia; EngineerExcel
A3: Polyethylene (PE/HDPE) | B3: 140 | C3: 140 | D3: Wikipedia
A4: Copper | B4: 135 | C4: 130-140 | D4: Wikipedia
A5: Ductile iron, cement-lined | B5: 140 | C5: 140 | D5: Wikipedia; EngineerExcel
A6: Cast iron, new | B6: 130 | C6: 130 | D6: Wikipedia
A7: Cast iron, 10 years old | B7: 110 | C7: 107-113 | D7: Wikipedia
A8: Cast iron, 20 years old | B8: 95 | C8: 89-100 | D8: Wikipedia
A9: Asbestos-cement | B9: 140 | C9: 140 | D9: Wikipedia
A10: Concrete | B10: 120 | C10: 100-140 | D10: Wikipedia
A11: Steel | B11: 120 | C11: 90-120 | D11: Wikipedia
A12: Galvanized iron | B12: 120 | C12: 120 | D12: Wikipedia
A14: Use your utility's or code's design value where one applies (e.g. NFPA 13 tables for sprinklers).

Sheet HW vs Darcy
A1: Hazen-Williams vs Darcy-Weisbach (PVC, % difference)
A3: Water temperature | B3: 20 | C3: °C
A4: Kinematic viscosity | B4: =1.792/(1+0.0337*B3+0.000221*B3^2) -> 1.0167953 | C4: mm²/s
A5: Hazen-Williams C | B5: 150
A6: Roughness ε (mm) | B6: 0.0015
A8: ID (mm) \ velocity (m/s) | B8: 0.3 | C8: 1 | D8: 2 | E8: 3
A9: 20 | B9: =(10.67*(B$8*PI()*($A9/1000)^2/4)^1.852/($B$5^1.852*($A9/1000)^4.8704))/((0.25/LOG10($B$6/1000/(3.7*($A9/1000))+5.74/(B$8*($A9/1000)/($B$4/1000000))^0.9)^2)*B$8^2/(2*9.81*($A9/1000)))-1 -> -0.20770123 | C9: =(10.67*(C$8*PI()*($A9/1000)^2/4)^1.852/($B$5^1.852*($A9/1000)^4.8704))/((0.25/LOG10($B$6/1000/(3.7*($A9/1000))+5.74/(C$8*($A9/1000)/($B$4/1000000))^0.9)^2)*C$8^2/(2*9.81*($A9/1000)))-1 -> -0.08298388 | D9: =(10.67*(D$8*PI()*($A9/1000)^2/4)^1.852/($B$5^1.852*($A9/1000)^4.8704))/((0.25/LOG10($B$6/1000/(3.7*($A9/1000))+5.74/(D$8*($A9/1000)/($B$4/1000000))^0.9)^2)*D$8^2/(2*9.81*($A9/1000)))-1 -> -0.026574179 | E9: =(10.67*(E$8*PI()*($A9/1000)^2/4)^1.852/($B$5^1.852*($A9/1000)^4.8704))/((0.25/LOG10($B$6/1000/(3.7*($A9/1000))+5.74/(E$8*($A9/1000)/($B$4/1000000))^0.9)^2)*E$8^2/(2*9.81*($A9/1000)))-1 -> 0.00037923075
A10: 50 | B10: =(10.67*(B$8*PI()*($A10/1000)^2/4)^1.852/($B$5^1.852*($A10/1000)^4.8704))/((0.25/LOG10($B$6/1000/(3.7*($A10/1000))+5.74/(B$8*($A10/1000)/($B$4/1000000))^0.9)^2)*B$8^2/(2*9.81*($A10/1000)))-1 -> -0.12175659 | C10: =(10.67*(C$8*PI()*($A10/1000)^2/4)^1.852/($B$5^1.852*($A10/1000)^4.8704))/((0.25/LOG10($B$6/1000/(3.7*($A10/1000))+5.74/(C$8*($A10/1000)/($B$4/1000000))^0.9)^2)*C$8^2/(2*9.81*($A10/1000)))-1 -> -0.019322183 | D10: =(10.67*(D$8*PI()*($A10/1000)^2/4)^1.852/($B$5^1.852*($A10/1000)^4.8704))/((0.25/LOG10($B$6/1000/(3.7*($A10/1000))+5.74/(D$8*($A10/1000)/($B$4/1000000))^0.9)^2)*D$8^2/(2*9.81*($A10/1000)))-1 -> 0.024637239 | E10: =(10.67*(E$8*PI()*($A10/1000)^2/4)^1.852/($B$5^1.852*($A10/1000)^4.8704))/((0.25/LOG10($B$6/1000/(3.7*($A10/1000))+5.74/(E$8*($A10/1000)/($B$4/1000000))^0.9)^2)*E$8^2/(2*9.81*($A10/1000)))-1 -> 0.044703674
A11: 100 | B11: =(10.67*(B$8*PI()*($A11/1000)^2/4)^1.852/($B$5^1.852*($A11/1000)^4.8704))/((0.25/LOG10($B$6/1000/(3.7*($A11/1000))+5.74/(B$8*($A11/1000)/($B$4/1000000))^0.9)^2)*B$8^2/(2*9.81*($A11/1000)))-1 -> -0.069033428 | C11: =(10.67*(C$8*PI()*($A11/1000)^2/4)^1.852/($B$5^1.852*($A11/1000)^4.8704))/((0.25/LOG10($B$6/1000/(3.7*($A11/1000))+5.74/(C$8*($A11/1000)/($B$4/1000000))^0.9)^2)*C$8^2/(2*9.81*($A11/1000)))-1 -> 0.016695297 | D11: =(10.67*(D$8*PI()*($A11/1000)^2/4)^1.852/($B$5^1.852*($A11/1000)^4.8704))/((0.25/LOG10($B$6/1000/(3.7*($A11/1000))+5.74/(D$8*($A11/1000)/($B$4/1000000))^0.9)^2)*D$8^2/(2*9.81*($A11/1000)))-1 -> 0.05165499 | E11: =(10.67*(E$8*PI()*($A11/1000)^2/4)^1.852/($B$5^1.852*($A11/1000)^4.8704))/((0.25/LOG10($B$6/1000/(3.7*($A11/1000))+5.74/(E$8*($A11/1000)/($B$4/1000000))^0.9)^2)*E$8^2/(2*9.81*($A11/1000)))-1 -> 0.066824292
A12: 200 | B12: =(10.67*(B$8*PI()*($A12/1000)^2/4)^1.852/($B$5^1.852*($A12/1000)^4.8704))/((0.25/LOG10($B$6/1000/(3.7*($A12/1000))+5.74/(B$8*($A12/1000)/($B$4/1000000))^0.9)^2)*B$8^2/(2*9.81*($A12/1000)))-1 -> -0.026754968 | C12: =(10.67*(C$8*PI()*($A12/1000)^2/4)^1.852/($B$5^1.852*($A12/1000)^4.8704))/((0.25/LOG10($B$6/1000/(3.7*($A12/1000))+5.74/(C$8*($A12/1000)/($B$4/1000000))^0.9)^2)*C$8^2/(2*9.81*($A12/1000)))-1 -> 0.042836323 | D12: =(10.67*(D$8*PI()*($A12/1000)^2/4)^1.852/($B$5^1.852*($A12/1000)^4.8704))/((0.25/LOG10($B$6/1000/(3.7*($A12/1000))+5.74/(D$8*($A12/1000)/($B$4/1000000))^0.9)^2)*D$8^2/(2*9.81*($A12/1000)))-1 -> 0.069315279 | E12: =(10.67*(E$8*PI()*($A12/1000)^2/4)^1.852/($B$5^1.852*($A12/1000)^4.8704))/((0.25/LOG10($B$6/1000/(3.7*($A12/1000))+5.74/(E$8*($A12/1000)/($B$4/1000000))^0.9)^2)*E$8^2/(2*9.81*($A12/1000)))-1 -> 0.07992453
A13: 500 | B13: =(10.67*(B$8*PI()*($A13/1000)^2/4)^1.852/($B$5^1.852*($A13/1000)^4.8704))/((0.25/LOG10($B$6/1000/(3.7*($A13/1000))+5.74/(B$8*($A13/1000)/($B$4/1000000))^0.9)^2)*B$8^2/(2*9.81*($A13/1000)))-1 -> 0.013808837 | C13: =(10.67*(C$8*PI()*($A13/1000)^2/4)^1.852/($B$5^1.852*($A13/1000)^4.8704))/((0.25/LOG10($B$6/1000/(3.7*($A13/1000))+5.74/(C$8*($A13/1000)/($B$4/1000000))^0.9)^2)*C$8^2/(2*9.81*($A13/1000)))-1 -> 0.063394687 | D13: =(10.67*(D$8*PI()*($A13/1000)^2/4)^1.852/($B$5^1.852*($A13/1000)^4.8704))/((0.25/LOG10($B$6/1000/(3.7*($A13/1000))+5.74/(D$8*($A13/1000)/($B$4/1000000))^0.9)^2)*D$8^2/(2*9.81*($A13/1000)))-1 -> 0.07961088 | E13: =(10.67*(E$8*PI()*($A13/1000)^2/4)^1.852/($B$5^1.852*($A13/1000)^4.8704))/((0.25/LOG10($B$6/1000/(3.7*($A13/1000))+5.74/(E$8*($A13/1000)/($B$4/1000000))^0.9)^2)*E$8^2/(2*9.81*($A13/1000)))-1 -> 0.084769542
A14: Positive: Hazen-Williams gives more loss than Darcy-Weisbach.
A16: Hot-water check: 25 mm PVC at 1.5 m/s
A17: Temperature (°C) | B17: 20 | C17: 60
A18: Viscosity (mm²/s) | B18: =1.792/(1+0.0337*B17+0.000221*B17^2) -> 1.0167953 | C18: =1.792/(1+0.0337*C17+0.000221*C17^2) -> 0.46940486
A19: HW vs Darcy | B19: =(10.67*(1.5*PI()*(25/1000)^2/4)^1.852/($B$5^1.852*(25/1000)^4.8704))/((0.25/LOG10($B$6/1000/(3.7*(25/1000))+5.74/(1.5*(25/1000)/(B18/1000000))^0.9)^2)*1.5^2/(2*9.81*(25/1000)))-1 -> -0.033063265 | C19: =(10.67*(1.5*PI()*(25/1000)^2/4)^1.852/($B$5^1.852*(25/1000)^4.8704))/((0.25/LOG10($B$6/1000/(3.7*(25/1000))+5.74/(1.5*(25/1000)/(C18/1000000))^0.9)^2)*1.5^2/(2*9.81*(25/1000)))-1 -> 0.14051599
